BEGIN:VCALENDAR
VERSION:2.0
PRODID:-//INTEP - ECPv6.15.14//NONSGML v1.0//EN
CALSCALE:GREGORIAN
METHOD:PUBLISH
X-WR-CALNAME:INTEP
X-ORIGINAL-URL:https://intep.edu.co/portal
X-WR-CALDESC:Eventos para INTEP
REFRESH-INTERVAL;VALUE=DURATION:PT1H
X-Robots-Tag:noindex
X-PUBLISHED-TTL:PT1H
BEGIN:VTIMEZONE
TZID:America/New_York
BEGIN:DAYLIGHT
TZOFFSETFROM:-0500
TZOFFSETTO:-0400
TZNAME:EDT
DTSTART:20250309T070000
END:DAYLIGHT
BEGIN:STANDARD
TZOFFSETFROM:-0400
TZOFFSETTO:-0500
TZNAME:EST
DTSTART:20251102T060000
END:STANDARD
BEGIN:DAYLIGHT
TZOFFSETFROM:-0500
TZOFFSETTO:-0400
TZNAME:EDT
DTSTART:20260308T070000
END:DAYLIGHT
BEGIN:STANDARD
TZOFFSETFROM:-0400
TZOFFSETTO:-0500
TZNAME:EST
DTSTART:20261101T060000
END:STANDARD
BEGIN:DAYLIGHT
TZOFFSETFROM:-0500
TZOFFSETTO:-0400
TZNAME:EDT
DTSTART:20270314T070000
END:DAYLIGHT
BEGIN:STANDARD
TZOFFSETFROM:-0400
TZOFFSETTO:-0500
TZNAME:EST
DTSTART:20271107T060000
END:STANDARD
END:VTIMEZONE
BEGIN:VEVENT
DTSTART;TZID=America/New_York:20260421T080000
DTEND;TZID=America/New_York:20260430T170000
DTSTAMP:20260423T204342
CREATED:20260422T035410Z
LAST-MODIFIED:20260422T035410Z
UID:35298-1776758400-1777568400@intep.edu.co
SUMMARY:Inscríbete a Súmate a INTEP Runners!!
DESCRIPTION:Súmate a INTEP Runners y comienza tus mañanas con energía\, disciplina y bienestar. Entrena en equipo\, mejora tu condición física y vive la experiencia de correr juntos. ¡Inscríbete y asegura tu cupo!\nPrimera competencia en el mes de mayo.\nPara toda la comunidad educativa.\nEscanear el código QR
URL:https://intep.edu.co/portal/event/inscribete-a-sumate-a-intep-runners/
LOCATION:INTEP – Roldanillo\, Carrera 7 # 10 - 20\, Roldanillo\, Valle del Cauca\, Colombia
CATEGORIES:Todos
ATTACH;FMTTYPE=image/png:https://intep.edu.co/portal/wp-content/uploads/2026/04/INTEP-RUNNERS-Facebook-whatsapp-1.png
END:VEVENT
BEGIN:VEVENT
DTSTART;TZID=America/New_York:20260424T080000
DTEND;TZID=America/New_York:20260429T180000
DTSTAMP:20260423T204342
CREATED:20260422T035936Z
LAST-MODIFIED:20260422T035936Z
UID:35301-1777017600-1777485600@intep.edu.co
SUMMARY:Elegir a tu representante ante el Comité de Convivencia Laboral (CCL)
DESCRIPTION:¡Atención Docentes y Administrativos!\nEs momento de elegir a tu representante ante el Comité de Convivencia Laboral (CCL)\n Período:2026 – 2028\n Fecha de votación: del 24 al 29 de abril de 2026\n El link se enviará al correo institucional\n ¡Tu participación fortalece la convivencia y el bienestar laboral!
URL:https://intep.edu.co/portal/event/elegir-a-tu-representante-ante-el-comite-de-convivencia-laboral-ccl/
LOCATION:INTEP – Roldanillo\, Carrera 7 # 10 - 20\, Roldanillo\, Valle del Cauca\, Colombia
CATEGORIES:Todos
ATTACH;FMTTYPE=image/jpeg:https://intep.edu.co/portal/wp-content/uploads/2026/04/675434261_1558869956248166_1663090080864774014_n.jpg
END:VEVENT
BEGIN:VEVENT
DTSTART;TZID=America/New_York:20260428T143000
DTEND;TZID=America/New_York:20260428T170000
DTSTAMP:20260423T204342
CREATED:20260325T235321Z
LAST-MODIFIED:20260325T235321Z
UID:34801-1777386600-1777395600@intep.edu.co
SUMMARY:Taller: Finanzas Sencillas para Emprendedores: Entender el dinero sin miedo.
DESCRIPTION:La Unidad de Emprendimiento del INTEP\, invita al Taller: Finanzas Sencillas para Emprendedores: Entender el dinero sin miedo.\n\n\nUn espacio práctico donde aprenderás a organizar tus ingresos\, controlar tus gastos y tomar mejores decisiones para tu negocio.\n\n\nLugar: Auditorio Omar Rayo -INTEP\nHora: 2:30 pm – 5:00 pm
URL:https://intep.edu.co/portal/event/taller-finanzas-sencillas-para-emprendedores-entender-el-dinero-sin-miedo/
LOCATION:INTEP – Roldanillo\, Carrera 7 # 10 - 20\, Roldanillo\, Valle del Cauca\, Colombia
CATEGORIES:Todos
ATTACH;FMTTYPE=image/png:https://intep.edu.co/portal/wp-content/uploads/2026/03/Finanzas-para-emprendedores-Facebook-whatsapp.png
ORGANIZER;CN="Unidad de Emprendimiento":MAILTO:emprendimiento@intep.edu.co
END:VEVENT
END:VCALENDAR