BEGIN:VCALENDAR
VERSION:2.0
PRODID:-//INTEP - ECPv6.15.14//NONSGML v1.0//EN
CALSCALE:GREGORIAN
METHOD:PUBLISH
X-ORIGINAL-URL:https://intep.edu.co/portal
X-WR-CALDESC:Eventos para INTEP
REFRESH-INTERVAL;VALUE=DURATION:PT1H
X-Robots-Tag:noindex
X-PUBLISHED-TTL:PT1H
BEGIN:VTIMEZONE
TZID:America/New_York
BEGIN:DAYLIGHT
TZOFFSETFROM:-0500
TZOFFSETTO:-0400
TZNAME:EDT
DTSTART:20240310T070000
END:DAYLIGHT
BEGIN:STANDARD
TZOFFSETFROM:-0400
TZOFFSETTO:-0500
TZNAME:EST
DTSTART:20241103T060000
END:STANDARD
BEGIN:DAYLIGHT
TZOFFSETFROM:-0500
TZOFFSETTO:-0400
TZNAME:EDT
DTSTART:20250309T070000
END:DAYLIGHT
BEGIN:STANDARD
TZOFFSETFROM:-0400
TZOFFSETTO:-0500
TZNAME:EST
DTSTART:20251102T060000
END:STANDARD
BEGIN:DAYLIGHT
TZOFFSETFROM:-0500
TZOFFSETTO:-0400
TZNAME:EDT
DTSTART:20260308T070000
END:DAYLIGHT
BEGIN:STANDARD
TZOFFSETFROM:-0400
TZOFFSETTO:-0500
TZNAME:EST
DTSTART:20261101T060000
END:STANDARD
END:VTIMEZONE
BEGIN:VEVENT
DTSTART;TZID=America/New_York:20250220T080000
DTEND;TZID=America/New_York:20250321T170000
DTSTAMP:20260424T003607
CREATED:20250223T193822Z
LAST-MODIFIED:20250223T193930Z
UID:26021-1740038400-1742576400@intep.edu.co
SUMMARY:Formación de docentes para Semilleros de Investigación
DESCRIPTION:Si eres docente INTEP \nFortalece tu conocimiento en investigación.\, desarrollo e innovación para la creación y guía de un semillero de investigación. \nApertura de inscripción: 20 de febrero de 2025 \nCierre de inscripción: 21 de marzo de  2025
URL:https://intep.edu.co/portal/event/formacion-de-docentes-para-semilleros-de-investigacion/
LOCATION:INTEP – Roldanillo\, Carrera 7 # 10 - 20\, Roldanillo\, Valle del Cauca\, Colombia
CATEGORIES:Todos
ATTACH;FMTTYPE=image/png:https://intep.edu.co/portal/wp-content/uploads/2025/02/semilleros_inv_doc.png
ORGANIZER;CN="Centro de Investigaci%C3%B3n y Proyecci%C3%B3n Social CIPS":MAILTO:investigacion@intep.edu.co
END:VEVENT
END:VCALENDAR